BEGIN:VCALENDAR
VERSION:2.0
PRODID:-//Kolpingsfamilie Hückeswagen - ECPv6.15.20//NONSGML v1.0//EN
CALSCALE:GREGORIAN
METHOD:PUBLISH
X-ORIGINAL-URL:https://www.kolping-hueckeswagen.de
X-WR-CALDESC:Veranstaltungen für Kolpingsfamilie Hückeswagen
REFRESH-INTERVAL;VALUE=DURATION:PT1H
X-Robots-Tag:noindex
X-PUBLISHED-TTL:PT1H
BEGIN:VTIMEZONE
TZID:Europe/Berlin
BEGIN:DAYLIGHT
TZOFFSETFROM:+0100
TZOFFSETTO:+0200
TZNAME:CEST
DTSTART:20250330T010000
END:DAYLIGHT
BEGIN:STANDARD
TZOFFSETFROM:+0200
TZOFFSETTO:+0100
TZNAME:CET
DTSTART:20251026T010000
END:STANDARD
BEGIN:DAYLIGHT
TZOFFSETFROM:+0100
TZOFFSETTO:+0200
TZNAME:CEST
DTSTART:20260329T010000
END:DAYLIGHT
BEGIN:STANDARD
TZOFFSETFROM:+0200
TZOFFSETTO:+0100
TZNAME:CET
DTSTART:20261025T010000
END:STANDARD
BEGIN:DAYLIGHT
TZOFFSETFROM:+0100
TZOFFSETTO:+0200
TZNAME:CEST
DTSTART:20270328T010000
END:DAYLIGHT
BEGIN:STANDARD
TZOFFSETFROM:+0200
TZOFFSETTO:+0100
TZNAME:CET
DTSTART:20271031T010000
END:STANDARD
END:VTIMEZONE
BEGIN:VEVENT
DTSTART;TZID=Europe/Berlin:20260424T170000
DTEND;TZID=Europe/Berlin:20260424T190000
DTSTAMP:20260424T155406
CREATED:20251223T204631Z
LAST-MODIFIED:20251223T204631Z
UID:2043-1777050000-1777057200@www.kolping-hueckeswagen.de
SUMMARY:Gruppenstunde Ü16
DESCRIPTION:
URL:https://www.kolping-hueckeswagen.de/event/gruppenstunde-ue16-49/
LOCATION:Gruppenraum\, Islandstraße 54\, Hückeswagen\, 42499\, Deutschland
CATEGORIES:Kolpingjugend
END:VEVENT
BEGIN:VEVENT
DTSTART;VALUE=DATE:20260425
DTEND;VALUE=DATE:20260426
DTSTAMP:20260424T155406
CREATED:20251229T103241Z
LAST-MODIFIED:20251229T103241Z
UID:2170-1777075200-1777161599@www.kolping-hueckeswagen.de
SUMMARY:Wandern mit der Kolpingjugend Bergische Wanderwoche
DESCRIPTION:
URL:https://www.kolping-hueckeswagen.de/event/wandern-mit-der-kolpingjugend-bergische-wanderwoche/
LOCATION:Gruppenraum\, Islandstraße 54\, Hückeswagen\, 42499\, Deutschland
CATEGORIES:Kolpingjugend
END:VEVENT
BEGIN:VEVENT
DTSTART;TZID=Europe/Berlin:20260426T170000
DTEND;TZID=Europe/Berlin:20260426T190000
DTSTAMP:20260424T155406
CREATED:20251229T102854Z
LAST-MODIFIED:20260326T215935Z
UID:2168-1777222800-1777230000@www.kolping-hueckeswagen.de
SUMMARY:Kolping-Kneipen-Quiz
DESCRIPTION:
URL:https://www.kolping-hueckeswagen.de/event/kolping-kneipen-quiz/
LOCATION:Kolpinghaus
CATEGORIES:Kolpingsfamilie
END:VEVENT
BEGIN:VEVENT
DTSTART;TZID=Europe/Berlin:20260429T170000
DTEND;TZID=Europe/Berlin:20260429T180000
DTSTAMP:20260424T155406
CREATED:20251227T171750Z
LAST-MODIFIED:20260109T152035Z
UID:2132-1777482000-1777485600@www.kolping-hueckeswagen.de
SUMMARY:Gruppenstunde U16
DESCRIPTION:
URL:https://www.kolping-hueckeswagen.de/event/gruppenstunde-u16-28/
LOCATION:Gruppenraum\, Islandstraße 54\, Hückeswagen\, 42499\, Deutschland
CATEGORIES:Kolpingjugend
END:VEVENT
BEGIN:VEVENT
DTSTART;VALUE=DATE:20260430
DTEND;VALUE=DATE:20260501
DTSTAMP:20260424T155406
CREATED:20251229T103445Z
LAST-MODIFIED:20251230T104626Z
UID:2172-1777507200-1777593599@www.kolping-hueckeswagen.de
SUMMARY:Altenberger Licht
DESCRIPTION:Nähere Informationen folgen
URL:https://www.kolping-hueckeswagen.de/event/altenberger-licht/
LOCATION:Altenberg\, Eugen-Heine-Platz 2\, Odenthal\, 51519\, Germany
CATEGORIES:Kolpingjugend,Kolpingsfamilie
END:VEVENT
END:VCALENDAR