BEGIN:VCALENDAR
VERSION:2.0
PRODID:-//Kolpingsfamilie Hückeswagen - ECPv6.15.20//NONSGML v1.0//EN
CALSCALE:GREGORIAN
METHOD:PUBLISH
X-ORIGINAL-URL:https://www.kolping-hueckeswagen.de
X-WR-CALDESC:Veranstaltungen für Kolpingsfamilie Hückeswagen
REFRESH-INTERVAL;VALUE=DURATION:PT1H
X-Robots-Tag:noindex
X-PUBLISHED-TTL:PT1H
BEGIN:VTIMEZONE
TZID:Europe/Berlin
BEGIN:DAYLIGHT
TZOFFSETFROM:+0100
TZOFFSETTO:+0200
TZNAME:CEST
DTSTART:20250330T010000
END:DAYLIGHT
BEGIN:STANDARD
TZOFFSETFROM:+0200
TZOFFSETTO:+0100
TZNAME:CET
DTSTART:20251026T010000
END:STANDARD
BEGIN:DAYLIGHT
TZOFFSETFROM:+0100
TZOFFSETTO:+0200
TZNAME:CEST
DTSTART:20260329T010000
END:DAYLIGHT
BEGIN:STANDARD
TZOFFSETFROM:+0200
TZOFFSETTO:+0100
TZNAME:CET
DTSTART:20261025T010000
END:STANDARD
BEGIN:DAYLIGHT
TZOFFSETFROM:+0100
TZOFFSETTO:+0200
TZNAME:CEST
DTSTART:20270328T010000
END:DAYLIGHT
BEGIN:STANDARD
TZOFFSETFROM:+0200
TZOFFSETTO:+0100
TZNAME:CET
DTSTART:20271031T010000
END:STANDARD
END:VTIMEZONE
BEGIN:VEVENT
DTSTART;TZID=Europe/Berlin:20261104T200000
DTEND;TZID=Europe/Berlin:20261104T220000
DTSTAMP:20260425T031156
CREATED:20260102T132700Z
LAST-MODIFIED:20260102T132700Z
UID:2241-1793822400-1793829600@www.kolping-hueckeswagen.de
SUMMARY:Vortragsabend Nachhaltigkeit
DESCRIPTION:
URL:https://www.kolping-hueckeswagen.de/event/vortragsabend-nachhaltigkeit/
LOCATION:Kolpingsaal\, Islandstraße 54\, Hückeswagen\, 42499\, Deutschland
CATEGORIES:Kolpingsfamilie
END:VEVENT
BEGIN:VEVENT
DTSTART;TZID=Europe/Berlin:20261106T170000
DTEND;TZID=Europe/Berlin:20261106T190000
DTSTAMP:20260425T031156
CREATED:20251227T164646Z
LAST-MODIFIED:20251227T164646Z
UID:2101-1793984400-1793991600@www.kolping-hueckeswagen.de
SUMMARY:Gruppenstunde Ü16
DESCRIPTION:
URL:https://www.kolping-hueckeswagen.de/event/gruppenstunde-ue16-68/
LOCATION:Gruppenraum\, Islandstraße 54\, Hückeswagen\, 42499\, Deutschland
CATEGORIES:Kolpingjugend
END:VEVENT
BEGIN:VEVENT
DTSTART;TZID=Europe/Berlin:20261107T083000
DTEND;TZID=Europe/Berlin:20261107T123000
DTSTAMP:20260425T031156
CREATED:20260102T133634Z
LAST-MODIFIED:20260106T171902Z
UID:2248-1794040200-1794054600@www.kolping-hueckeswagen.de
SUMMARY:Altpapiersammlung
DESCRIPTION:
URL:https://www.kolping-hueckeswagen.de/event/altpapiersammlung-durch-die-jungendfeuerwehr/
LOCATION:Parkplatz Brunsbachtal
CATEGORIES:Kolpingjugend
END:VEVENT
BEGIN:VEVENT
DTSTART;TZID=Europe/Berlin:20261108T150000
DTEND;TZID=Europe/Berlin:20261108T170000
DTSTAMP:20260425T031156
CREATED:20260102T133044Z
LAST-MODIFIED:20260102T133044Z
UID:2243-1794150000-1794157200@www.kolping-hueckeswagen.de
SUMMARY:Kleidertauschbörse
DESCRIPTION:
URL:https://www.kolping-hueckeswagen.de/event/kleidertauschboerse-5/
LOCATION:Kolpingsaal\, Islandstraße 54\, Hückeswagen\, 42499\, Deutschland
CATEGORIES:Kolpingsfamilie
END:VEVENT
BEGIN:VEVENT
DTSTART;TZID=Europe/Berlin:20261111T110000
DTEND;TZID=Europe/Berlin:20261111T170000
DTSTAMP:20260425T031156
CREATED:20260102T133340Z
LAST-MODIFIED:20260102T133409Z
UID:2245-1794394800-1794416400@www.kolping-hueckeswagen.de
SUMMARY:Wandern mit den Jungen Alten
DESCRIPTION:
URL:https://www.kolping-hueckeswagen.de/event/wander-mit-den-jungen-alten/
CATEGORIES:Junge Alte
END:VEVENT
BEGIN:VEVENT
DTSTART;TZID=Europe/Berlin:20261111T170000
DTEND;TZID=Europe/Berlin:20261111T180000
DTSTAMP:20260425T031156
CREATED:20251229T100107Z
LAST-MODIFIED:20260109T151025Z
UID:2152-1794416400-1794420000@www.kolping-hueckeswagen.de
SUMMARY:Gruppenstunde U16
DESCRIPTION:
URL:https://www.kolping-hueckeswagen.de/event/gruppenstunde-u16-38/
LOCATION:Gruppenraum\, Islandstraße 54\, Hückeswagen\, 42499\, Deutschland
CATEGORIES:Kolpingjugend
END:VEVENT
BEGIN:VEVENT
DTSTART;TZID=Europe/Berlin:20261113T170000
DTEND;TZID=Europe/Berlin:20261113T190000
DTSTAMP:20260425T031156
CREATED:20251227T164815Z
LAST-MODIFIED:20251227T164815Z
UID:2103-1794589200-1794596400@www.kolping-hueckeswagen.de
SUMMARY:Gruppenstunde Ü16
DESCRIPTION:
URL:https://www.kolping-hueckeswagen.de/event/gruppenstunde-ue16-69/
LOCATION:Gruppenraum\, Islandstraße 54\, Hückeswagen\, 42499\, Deutschland
CATEGORIES:Kolpingjugend
END:VEVENT
BEGIN:VEVENT
DTSTART;TZID=Europe/Berlin:20261114T200000
DTEND;TZID=Europe/Berlin:20261114T230000
DTSTAMP:20260425T031156
CREATED:20260102T134207Z
LAST-MODIFIED:20260102T134207Z
UID:2251-1794686400-1794697200@www.kolping-hueckeswagen.de
SUMMARY:Heringsessen
DESCRIPTION:
URL:https://www.kolping-hueckeswagen.de/event/heringsessen-2/
LOCATION:Kolpingsaal\, Islandstraße 54\, Hückeswagen\, 42499\, Deutschland
CATEGORIES:Kolpingsfamilie
END:VEVENT
BEGIN:VEVENT
DTSTART;TZID=Europe/Berlin:20261119T153000
DTEND;TZID=Europe/Berlin:20261119T170000
DTSTAMP:20260425T031156
CREATED:20260102T134454Z
LAST-MODIFIED:20260102T134454Z
UID:2253-1795102200-1795107600@www.kolping-hueckeswagen.de
SUMMARY:Kolping Senioren
DESCRIPTION:
URL:https://www.kolping-hueckeswagen.de/event/kolping-senioren-21/
LOCATION:Gesellenzimmer\, Islandstraße 54\, Hückeswagen\, 42499\, Germany
CATEGORIES:Kolping Senioren
END:VEVENT
BEGIN:VEVENT
DTSTART;TZID=Europe/Berlin:20261120T170000
DTEND;TZID=Europe/Berlin:20261120T190000
DTSTAMP:20260425T031156
CREATED:20251227T165102Z
LAST-MODIFIED:20251227T165102Z
UID:2107-1795194000-1795201200@www.kolping-hueckeswagen.de
SUMMARY:Gruppenstunde Ü16
DESCRIPTION:
URL:https://www.kolping-hueckeswagen.de/event/gruppenstunde-ue16-71/
LOCATION:Gruppenraum\, Islandstraße 54\, Hückeswagen\, 42499\, Deutschland
CATEGORIES:Kolpingjugend
END:VEVENT
BEGIN:VEVENT
DTSTART;TZID=Europe/Berlin:20261125T170000
DTEND;TZID=Europe/Berlin:20261125T180000
DTSTAMP:20260425T031156
CREATED:20251229T100205Z
LAST-MODIFIED:20260109T150916Z
UID:2154-1795626000-1795629600@www.kolping-hueckeswagen.de
SUMMARY:Gruppenstunde U16
DESCRIPTION:
URL:https://www.kolping-hueckeswagen.de/event/gruppenstunde-u16-39/
LOCATION:Gruppenraum\, Islandstraße 54\, Hückeswagen\, 42499\, Deutschland
CATEGORIES:Kolpingjugend
END:VEVENT
BEGIN:VEVENT
DTSTART;TZID=Europe/Berlin:20261127T170000
DTEND;TZID=Europe/Berlin:20261127T190000
DTSTAMP:20260425T031156
CREATED:20251227T165212Z
LAST-MODIFIED:20251227T165212Z
UID:2109-1795798800-1795806000@www.kolping-hueckeswagen.de
SUMMARY:Gruppenstunde Ü16
DESCRIPTION:
URL:https://www.kolping-hueckeswagen.de/event/gruppenstunde-ue16-72/
LOCATION:Gruppenraum\, Islandstraße 54\, Hückeswagen\, 42499\, Deutschland
CATEGORIES:Kolpingjugend
END:VEVENT
BEGIN:VEVENT
DTSTART;TZID=Europe/Berlin:20261128T150000
DTEND;TZID=Europe/Berlin:20261128T210000
DTSTAMP:20260425T031156
CREATED:20260102T134752Z
LAST-MODIFIED:20260102T134752Z
UID:2255-1795878000-1795899600@www.kolping-hueckeswagen.de
SUMMARY:Weihnachtsbaum trifft Glühwein
DESCRIPTION:
URL:https://www.kolping-hueckeswagen.de/event/weihnachtsbaum-trifft-gluehwein-3/
LOCATION:Gruppenraum\, Islandstraße 54\, Hückeswagen\, 42499\, Deutschland
CATEGORIES:Kolpingsfamilie
END:VEVENT
END:VCALENDAR