BEGIN:VCALENDAR
VERSION:2.0
PRODID:-//Kolpingsfamilie Hückeswagen - ECPv6.15.20//NONSGML v1.0//EN
CALSCALE:GREGORIAN
METHOD:PUBLISH
X-ORIGINAL-URL:https://www.kolping-hueckeswagen.de
X-WR-CALDESC:Veranstaltungen für Kolpingsfamilie Hückeswagen
REFRESH-INTERVAL;VALUE=DURATION:PT1H
X-Robots-Tag:noindex
X-PUBLISHED-TTL:PT1H
BEGIN:VTIMEZONE
TZID:Europe/Berlin
BEGIN:DAYLIGHT
TZOFFSETFROM:+0100
TZOFFSETTO:+0200
TZNAME:CEST
DTSTART:20250330T010000
END:DAYLIGHT
BEGIN:STANDARD
TZOFFSETFROM:+0200
TZOFFSETTO:+0100
TZNAME:CET
DTSTART:20251026T010000
END:STANDARD
BEGIN:DAYLIGHT
TZOFFSETFROM:+0100
TZOFFSETTO:+0200
TZNAME:CEST
DTSTART:20260329T010000
END:DAYLIGHT
BEGIN:STANDARD
TZOFFSETFROM:+0200
TZOFFSETTO:+0100
TZNAME:CET
DTSTART:20261025T010000
END:STANDARD
BEGIN:DAYLIGHT
TZOFFSETFROM:+0100
TZOFFSETTO:+0200
TZNAME:CEST
DTSTART:20270328T010000
END:DAYLIGHT
BEGIN:STANDARD
TZOFFSETFROM:+0200
TZOFFSETTO:+0100
TZNAME:CET
DTSTART:20271031T010000
END:STANDARD
END:VTIMEZONE
BEGIN:VEVENT
DTSTART;TZID=Europe/Berlin:20261002T170000
DTEND;TZID=Europe/Berlin:20261002T190000
DTSTAMP:20260425T013502
CREATED:20251227T164228Z
LAST-MODIFIED:20251227T164228Z
UID:2095-1790960400-1790967600@www.kolping-hueckeswagen.de
SUMMARY:Gruppenstunde Ü16
DESCRIPTION:
URL:https://www.kolping-hueckeswagen.de/event/gruppenstunde-ue16-65/
LOCATION:Gruppenraum\, Islandstraße 54\, Hückeswagen\, 42499\, Deutschland
CATEGORIES:Kolpingjugend
END:VEVENT
BEGIN:VEVENT
DTSTART;TZID=Europe/Berlin:20261009T170000
DTEND;TZID=Europe/Berlin:20261009T190000
DTSTAMP:20260425T013502
CREATED:20251227T164404Z
LAST-MODIFIED:20251227T164404Z
UID:2097-1791565200-1791572400@www.kolping-hueckeswagen.de
SUMMARY:Gruppenstunde Ü16
DESCRIPTION:
URL:https://www.kolping-hueckeswagen.de/event/gruppenstunde-ue16-66/
LOCATION:Gruppenraum\, Islandstraße 54\, Hückeswagen\, 42499\, Deutschland
CATEGORIES:Kolpingjugend
END:VEVENT
BEGIN:VEVENT
DTSTART;TZID=Europe/Berlin:20261010T083000
DTEND;TZID=Europe/Berlin:20261010T123000
DTSTAMP:20260425T013502
CREATED:20260102T131845Z
LAST-MODIFIED:20260102T131845Z
UID:2233-1791621000-1791635400@www.kolping-hueckeswagen.de
SUMMARY:Altpapiersammlung
DESCRIPTION:
URL:https://www.kolping-hueckeswagen.de/event/altpapiersammlung-22/
LOCATION:Parkplatz Brunsbachtal
CATEGORIES:Kolpingjugend
END:VEVENT
BEGIN:VEVENT
DTSTART;TZID=Europe/Berlin:20261014T150000
DTEND;TZID=Europe/Berlin:20261014T170000
DTSTAMP:20260425T013502
CREATED:20260102T132030Z
LAST-MODIFIED:20260102T132030Z
UID:2235-1791990000-1791997200@www.kolping-hueckeswagen.de
SUMMARY:Wandern mit den Jungen Alten
DESCRIPTION:
URL:https://www.kolping-hueckeswagen.de/event/wandern-mit-den-jungen-alten-14/
CATEGORIES:Junge Alte
END:VEVENT
BEGIN:VEVENT
DTSTART;TZID=Europe/Berlin:20261014T170000
DTEND;TZID=Europe/Berlin:20261014T180000
DTSTAMP:20260425T013502
CREATED:20251229T095936Z
LAST-MODIFIED:20260109T151124Z
UID:2150-1791997200-1792000800@www.kolping-hueckeswagen.de
SUMMARY:Gruppenstunde U16
DESCRIPTION:
URL:https://www.kolping-hueckeswagen.de/event/gruppenstunde-u16-37/
LOCATION:Gruppenraum\, Islandstraße 54\, Hückeswagen\, 42499\, Deutschland
CATEGORIES:Kolpingjugend
END:VEVENT
BEGIN:VEVENT
DTSTART;TZID=Europe/Berlin:20261015T153000
DTEND;TZID=Europe/Berlin:20261015T170000
DTSTAMP:20260425T013502
CREATED:20260102T132202Z
LAST-MODIFIED:20260102T132202Z
UID:2237-1792078200-1792083600@www.kolping-hueckeswagen.de
SUMMARY:Kolping Senioren
DESCRIPTION:
URL:https://www.kolping-hueckeswagen.de/event/kolping-senioren-20/
LOCATION:Gesellenzimmer\, Islandstraße 54\, Hückeswagen\, 42499\, Germany
CATEGORIES:Kolping Senioren
END:VEVENT
BEGIN:VEVENT
DTSTART;TZID=Europe/Berlin:20261016T170000
DTEND;TZID=Europe/Berlin:20261016T190000
DTSTAMP:20260425T013502
CREATED:20251227T164505Z
LAST-MODIFIED:20251227T164505Z
UID:2099-1792170000-1792177200@www.kolping-hueckeswagen.de
SUMMARY:Gruppenstunde Ü16
DESCRIPTION:
URL:https://www.kolping-hueckeswagen.de/event/gruppenstunde-ue16-67/
LOCATION:Gruppenraum\, Islandstraße 54\, Hückeswagen\, 42499\, Deutschland
CATEGORIES:Kolpingjugend
END:VEVENT
BEGIN:VEVENT
DTSTART;TZID=Europe/Berlin:20261025T170000
DTEND;TZID=Europe/Berlin:20261025T200000
DTSTAMP:20260425T013502
CREATED:20260102T132406Z
LAST-MODIFIED:20260102T132406Z
UID:2239-1792947600-1792958400@www.kolping-hueckeswagen.de
SUMMARY:Kolping Kneipenquiz
DESCRIPTION:
URL:https://www.kolping-hueckeswagen.de/event/kolping-kneipenquiz-4/
LOCATION:Kolpinghaus
CATEGORIES:Kolpingsfamilie
END:VEVENT
END:VCALENDAR