BEGIN:VCALENDAR
VERSION:2.0
PRODID:-//Kolpingsfamilie Hückeswagen - ECPv6.15.20//NONSGML v1.0//EN
CALSCALE:GREGORIAN
METHOD:PUBLISH
X-ORIGINAL-URL:https://www.kolping-hueckeswagen.de
X-WR-CALDESC:Veranstaltungen für Kolpingsfamilie Hückeswagen
REFRESH-INTERVAL;VALUE=DURATION:PT1H
X-Robots-Tag:noindex
X-PUBLISHED-TTL:PT1H
BEGIN:VTIMEZONE
TZID:Europe/Berlin
BEGIN:DAYLIGHT
TZOFFSETFROM:+0100
TZOFFSETTO:+0200
TZNAME:CEST
DTSTART:20250330T010000
END:DAYLIGHT
BEGIN:STANDARD
TZOFFSETFROM:+0200
TZOFFSETTO:+0100
TZNAME:CET
DTSTART:20251026T010000
END:STANDARD
BEGIN:DAYLIGHT
TZOFFSETFROM:+0100
TZOFFSETTO:+0200
TZNAME:CEST
DTSTART:20260329T010000
END:DAYLIGHT
BEGIN:STANDARD
TZOFFSETFROM:+0200
TZOFFSETTO:+0100
TZNAME:CET
DTSTART:20261025T010000
END:STANDARD
BEGIN:DAYLIGHT
TZOFFSETFROM:+0100
TZOFFSETTO:+0200
TZNAME:CEST
DTSTART:20270328T010000
END:DAYLIGHT
BEGIN:STANDARD
TZOFFSETFROM:+0200
TZOFFSETTO:+0100
TZNAME:CET
DTSTART:20271031T010000
END:STANDARD
END:VTIMEZONE
BEGIN:VEVENT
DTSTART;TZID=Europe/Berlin:20260703T180000
DTEND;TZID=Europe/Berlin:20260705T140000
DTSTAMP:20260424T211038
CREATED:20251230T123111Z
LAST-MODIFIED:20251230T123322Z
UID:2204-1783101600-1783260000@www.kolping-hueckeswagen.de
SUMMARY:Familienwochenende
DESCRIPTION:
URL:https://www.kolping-hueckeswagen.de/event/familienwochenende/
CATEGORIES:Kolpingsfamilie
END:VEVENT
BEGIN:VEVENT
DTSTART;TZID=Europe/Berlin:20260708T170000
DTEND;TZID=Europe/Berlin:20260708T180000
DTSTAMP:20260424T211038
CREATED:20251227T172815Z
LAST-MODIFIED:20260109T151518Z
UID:2142-1783530000-1783533600@www.kolping-hueckeswagen.de
SUMMARY:Gruppenstunde U16
DESCRIPTION:
URL:https://www.kolping-hueckeswagen.de/event/gruppenstunde-u16-33/
LOCATION:Gruppenraum\, Islandstraße 54\, Hückeswagen\, 42499\, Deutschland
CATEGORIES:Kolpingjugend
END:VEVENT
BEGIN:VEVENT
DTSTART;TZID=Europe/Berlin:20260710T170000
DTEND;TZID=Europe/Berlin:20260710T190000
DTSTAMP:20260424T211038
CREATED:20251227T163417Z
LAST-MODIFIED:20251227T163417Z
UID:2083-1783702800-1783710000@www.kolping-hueckeswagen.de
SUMMARY:Gruppenstunde Ü16
DESCRIPTION:
URL:https://www.kolping-hueckeswagen.de/event/gruppenstunde-ue16-59/
LOCATION:Gruppenraum\, Islandstraße 54\, Hückeswagen\, 42499\, Deutschland
CATEGORIES:Kolpingjugend
END:VEVENT
BEGIN:VEVENT
DTSTART;TZID=Europe/Berlin:20260711T083000
DTEND;TZID=Europe/Berlin:20260711T123000
DTSTAMP:20260424T211038
CREATED:20251230T124355Z
LAST-MODIFIED:20251230T124355Z
UID:2208-1783758600-1783773000@www.kolping-hueckeswagen.de
SUMMARY:Altpapiersammlung
DESCRIPTION:
URL:https://www.kolping-hueckeswagen.de/event/altpapiersammlung-19/
LOCATION:Parkplatz Brunsbachtal
CATEGORIES:Kolpingjugend
END:VEVENT
BEGIN:VEVENT
DTSTART;TZID=Europe/Berlin:20260715T150000
DTEND;TZID=Europe/Berlin:20260715T170000
DTSTAMP:20260424T211038
CREATED:20251230T124650Z
LAST-MODIFIED:20251230T124650Z
UID:2210-1784127600-1784134800@www.kolping-hueckeswagen.de
SUMMARY:Wandern mit den Jungen Alten
DESCRIPTION:
URL:https://www.kolping-hueckeswagen.de/event/wandern-mit-den-jungen-alten-12/
CATEGORIES:Junge Alte
END:VEVENT
BEGIN:VEVENT
DTSTART;TZID=Europe/Berlin:20260717T170000
DTEND;TZID=Europe/Berlin:20260717T190000
DTSTAMP:20260424T211038
CREATED:20251227T163523Z
LAST-MODIFIED:20251227T163523Z
UID:2085-1784307600-1784314800@www.kolping-hueckeswagen.de
SUMMARY:Gruppenstunde Ü16
DESCRIPTION:
URL:https://www.kolping-hueckeswagen.de/event/gruppenstunde-ue16-60/
LOCATION:Gruppenraum\, Islandstraße 54\, Hückeswagen\, 42499\, Deutschland
CATEGORIES:Kolpingjugend
END:VEVENT
BEGIN:VEVENT
DTSTART;TZID=Europe/Berlin:20260717T180000
DTEND;TZID=Europe/Berlin:20260717T233000
DTSTAMP:20260424T211038
CREATED:20251230T124930Z
LAST-MODIFIED:20251230T124930Z
UID:2212-1784311200-1784331000@www.kolping-hueckeswagen.de
SUMMARY:Jugendparty
DESCRIPTION:
URL:https://www.kolping-hueckeswagen.de/event/jugendparty/
LOCATION:Gruppenraum\, Islandstraße 54\, Hückeswagen\, 42499\, Deutschland
CATEGORIES:Kolpingjugend
END:VEVENT
END:VCALENDAR