BEGIN:VCALENDAR
VERSION:2.0
PRODID:-//Kolpingsfamilie Hückeswagen - ECPv6.15.20//NONSGML v1.0//EN
CALSCALE:GREGORIAN
METHOD:PUBLISH
X-ORIGINAL-URL:https://www.kolping-hueckeswagen.de
X-WR-CALDESC:Veranstaltungen für Kolpingsfamilie Hückeswagen
REFRESH-INTERVAL;VALUE=DURATION:PT1H
X-Robots-Tag:noindex
X-PUBLISHED-TTL:PT1H
BEGIN:VTIMEZONE
TZID:Europe/Berlin
BEGIN:DAYLIGHT
TZOFFSETFROM:+0100
TZOFFSETTO:+0200
TZNAME:CEST
DTSTART:20250330T010000
END:DAYLIGHT
BEGIN:STANDARD
TZOFFSETFROM:+0200
TZOFFSETTO:+0100
TZNAME:CET
DTSTART:20251026T010000
END:STANDARD
BEGIN:DAYLIGHT
TZOFFSETFROM:+0100
TZOFFSETTO:+0200
TZNAME:CEST
DTSTART:20260329T010000
END:DAYLIGHT
BEGIN:STANDARD
TZOFFSETFROM:+0200
TZOFFSETTO:+0100
TZNAME:CET
DTSTART:20261025T010000
END:STANDARD
BEGIN:DAYLIGHT
TZOFFSETFROM:+0100
TZOFFSETTO:+0200
TZNAME:CEST
DTSTART:20270328T010000
END:DAYLIGHT
BEGIN:STANDARD
TZOFFSETFROM:+0200
TZOFFSETTO:+0100
TZNAME:CET
DTSTART:20271031T010000
END:STANDARD
END:VTIMEZONE
BEGIN:VEVENT
DTSTART;TZID=Europe/Berlin:20260503T160000
DTEND;TZID=Europe/Berlin:20260503T200000
DTSTAMP:20260424T175021
CREATED:20251230T105620Z
LAST-MODIFIED:20260419T105706Z
UID:2177-1777824000-1777838400@www.kolping-hueckeswagen.de
SUMMARY:Kolping auf den Spuren von Hopfen und Malz
DESCRIPTION:
URL:https://www.kolping-hueckeswagen.de/event/kolping-auf-den-spuren-von-hopfen-und-malz-2/
LOCATION:3-Städte-Depot\, Peterstraße 75\, Hückeswagen\, 42499\, Germany
CATEGORIES:Kolpingsfamilie
END:VEVENT
BEGIN:VEVENT
DTSTART;TZID=Europe/Berlin:20260505T190000
DTEND;TZID=Europe/Berlin:20260505T220000
DTSTAMP:20260424T175021
CREATED:20251230T110217Z
LAST-MODIFIED:20251230T110244Z
UID:2179-1778007600-1778018400@www.kolping-hueckeswagen.de
SUMMARY:Teilnahme an der Maiandacht
DESCRIPTION:
URL:https://www.kolping-hueckeswagen.de/event/maiandacht/
LOCATION:Altenberg\, Eugen-Heine-Platz 2\, Odenthal\, 51519\, Germany
CATEGORIES:Kolpingsfamilie
END:VEVENT
BEGIN:VEVENT
DTSTART;TZID=Europe/Berlin:20260506T150000
DTEND;TZID=Europe/Berlin:20260506T180000
DTSTAMP:20260424T175021
CREATED:20251230T110441Z
LAST-MODIFIED:20251230T110441Z
UID:2182-1778079600-1778090400@www.kolping-hueckeswagen.de
SUMMARY:Wandern mit den Jungen Alten
DESCRIPTION:
URL:https://www.kolping-hueckeswagen.de/event/wandern-mit-den-jungen-alten-10/
CATEGORIES:Junge Alte
END:VEVENT
BEGIN:VEVENT
DTSTART;TZID=Europe/Berlin:20260507T200000
DTEND;TZID=Europe/Berlin:20260507T220000
DTSTAMP:20260424T175021
CREATED:20251230T110856Z
LAST-MODIFIED:20251230T110856Z
UID:2184-1778184000-1778191200@www.kolping-hueckeswagen.de
SUMMARY:Vortragsabend mit Pfr. Berger
DESCRIPTION:
URL:https://www.kolping-hueckeswagen.de/event/vortragsabend-mit-pfr-berger/
LOCATION:Kolpingsaal\, Islandstraße 54\, Hückeswagen\, 42499\, Deutschland
CATEGORIES:Kolpingsfamilie
END:VEVENT
BEGIN:VEVENT
DTSTART;TZID=Europe/Berlin:20260508T170000
DTEND;TZID=Europe/Berlin:20260508T190000
DTSTAMP:20260424T175021
CREATED:20251227T135832Z
LAST-MODIFIED:20251227T135832Z
UID:2061-1778259600-1778266800@www.kolping-hueckeswagen.de
SUMMARY:Gruppenstunde Ü16
DESCRIPTION:
URL:https://www.kolping-hueckeswagen.de/event/gruppenstunde-ue16-50/
LOCATION:Gruppenraum\, Islandstraße 54\, Hückeswagen\, 42499\, Deutschland
CATEGORIES:Kolpingjugend
END:VEVENT
BEGIN:VEVENT
DTSTART;TZID=Europe/Berlin:20260509T083000
DTEND;TZID=Europe/Berlin:20260509T123000
DTSTAMP:20260424T175021
CREATED:20251230T111016Z
LAST-MODIFIED:20251230T111043Z
UID:2186-1778315400-1778329800@www.kolping-hueckeswagen.de
SUMMARY:Altpapiersammlung
DESCRIPTION:
URL:https://www.kolping-hueckeswagen.de/event/altpapiersammlung-17/
LOCATION:Parkplatz Brunsbachtal
CATEGORIES:Kolpingjugend
END:VEVENT
BEGIN:VEVENT
DTSTART;TZID=Europe/Berlin:20260513T170000
DTEND;TZID=Europe/Berlin:20260513T180000
DTSTAMP:20260424T175021
CREATED:20251227T172030Z
LAST-MODIFIED:20260109T151937Z
UID:2134-1778691600-1778695200@www.kolping-hueckeswagen.de
SUMMARY:Gruppenstunde U16
DESCRIPTION:
URL:https://www.kolping-hueckeswagen.de/event/gruppenstunde-u16-29/
LOCATION:Gruppenraum\, Islandstraße 54\, Hückeswagen\, 42499\, Deutschland
CATEGORIES:Kolpingjugend
END:VEVENT
BEGIN:VEVENT
DTSTART;TZID=Europe/Berlin:20260515T170000
DTEND;TZID=Europe/Berlin:20260515T190000
DTSTAMP:20260424T175021
CREATED:20251227T162213Z
LAST-MODIFIED:20251227T162213Z
UID:2063-1778864400-1778871600@www.kolping-hueckeswagen.de
SUMMARY:Gruppenstunde Ü16
DESCRIPTION:
URL:https://www.kolping-hueckeswagen.de/event/gruppenstunde-ue16-51/
LOCATION:Gruppenraum\, Islandstraße 54\, Hückeswagen\, 42499\, Deutschland
CATEGORIES:Kolpingjugend
END:VEVENT
BEGIN:VEVENT
DTSTART;TZID=Europe/Berlin:20260521T153000
DTEND;TZID=Europe/Berlin:20260521T170000
DTSTAMP:20260424T175021
CREATED:20251230T111220Z
LAST-MODIFIED:20251230T111220Z
UID:2188-1779377400-1779382800@www.kolping-hueckeswagen.de
SUMMARY:Kolping Senioren
DESCRIPTION:
URL:https://www.kolping-hueckeswagen.de/event/kolping-senioren-16/
LOCATION:Gesellenzimmer\, Islandstraße 54\, Hückeswagen\, 42499\, Germany
CATEGORIES:Kolping Senioren
END:VEVENT
BEGIN:VEVENT
DTSTART;TZID=Europe/Berlin:20260522T170000
DTEND;TZID=Europe/Berlin:20260522T190000
DTSTAMP:20260424T175021
CREATED:20251227T162305Z
LAST-MODIFIED:20251227T162305Z
UID:2065-1779469200-1779476400@www.kolping-hueckeswagen.de
SUMMARY:Gruppenstunde Ü16
DESCRIPTION:
URL:https://www.kolping-hueckeswagen.de/event/gruppenstunde-ue16-52/
LOCATION:Gruppenraum\, Islandstraße 54\, Hückeswagen\, 42499\, Deutschland
CATEGORIES:Kolpingjugend
END:VEVENT
BEGIN:VEVENT
DTSTART;TZID=Europe/Berlin:20260527T170000
DTEND;TZID=Europe/Berlin:20260527T180000
DTSTAMP:20260424T175021
CREATED:20251227T172202Z
LAST-MODIFIED:20260109T151831Z
UID:2136-1779901200-1779904800@www.kolping-hueckeswagen.de
SUMMARY:Gruppenstunde U16
DESCRIPTION:
URL:https://www.kolping-hueckeswagen.de/event/gruppenstunde-u16-30/
LOCATION:Gruppenraum\, Islandstraße 54\, Hückeswagen\, 42499\, Deutschland
CATEGORIES:Kolpingjugend
END:VEVENT
BEGIN:VEVENT
DTSTART;TZID=Europe/Berlin:20260529T170000
DTEND;TZID=Europe/Berlin:20260529T190000
DTSTAMP:20260424T175021
CREATED:20251227T162352Z
LAST-MODIFIED:20251227T162352Z
UID:2067-1780074000-1780081200@www.kolping-hueckeswagen.de
SUMMARY:Gruppenstunde Ü16
DESCRIPTION:
URL:https://www.kolping-hueckeswagen.de/event/gruppenstunde-ue16-53/
LOCATION:Gruppenraum\, Islandstraße 54\, Hückeswagen\, 42499\, Deutschland
CATEGORIES:Kolpingjugend
END:VEVENT
BEGIN:VEVENT
DTSTART;TZID=Europe/Berlin:20260531T083000
DTEND;TZID=Europe/Berlin:20260531T183000
DTSTAMP:20260424T175021
CREATED:20251230T112934Z
LAST-MODIFIED:20251230T112934Z
UID:2190-1780216200-1780252200@www.kolping-hueckeswagen.de
SUMMARY:Kolping radelt
DESCRIPTION:
URL:https://www.kolping-hueckeswagen.de/event/kolping-radelt-3/
CATEGORIES:Kolpingsfamilie
END:VEVENT
END:VCALENDAR