BEGIN:VCALENDAR
VERSION:2.0
PRODID:-//Kolpingsfamilie Hückeswagen - ECPv6.15.20//NONSGML v1.0//EN
CALSCALE:GREGORIAN
METHOD:PUBLISH
X-ORIGINAL-URL:https://www.kolping-hueckeswagen.de
X-WR-CALDESC:Veranstaltungen für Kolpingsfamilie Hückeswagen
REFRESH-INTERVAL;VALUE=DURATION:PT1H
X-Robots-Tag:noindex
X-PUBLISHED-TTL:PT1H
BEGIN:VTIMEZONE
TZID:Europe/Berlin
BEGIN:DAYLIGHT
TZOFFSETFROM:+0100
TZOFFSETTO:+0200
TZNAME:CEST
DTSTART:20250330T010000
END:DAYLIGHT
BEGIN:STANDARD
TZOFFSETFROM:+0200
TZOFFSETTO:+0100
TZNAME:CET
DTSTART:20251026T010000
END:STANDARD
BEGIN:DAYLIGHT
TZOFFSETFROM:+0100
TZOFFSETTO:+0200
TZNAME:CEST
DTSTART:20260329T010000
END:DAYLIGHT
BEGIN:STANDARD
TZOFFSETFROM:+0200
TZOFFSETTO:+0100
TZNAME:CET
DTSTART:20261025T010000
END:STANDARD
BEGIN:DAYLIGHT
TZOFFSETFROM:+0100
TZOFFSETTO:+0200
TZNAME:CEST
DTSTART:20270328T010000
END:DAYLIGHT
BEGIN:STANDARD
TZOFFSETFROM:+0200
TZOFFSETTO:+0100
TZNAME:CET
DTSTART:20271031T010000
END:STANDARD
END:VTIMEZONE
BEGIN:VEVENT
DTSTART;TZID=Europe/Berlin:20260107T170000
DTEND;TZID=Europe/Berlin:20260107T190000
DTSTAMP:20260424T211936
CREATED:20251227T165948Z
LAST-MODIFIED:20251227T165948Z
UID:2118-1767805200-1767812400@www.kolping-hueckeswagen.de
SUMMARY:Gruppenstunde U16
DESCRIPTION:
URL:https://www.kolping-hueckeswagen.de/event/gruppenstunde-u16-21/
LOCATION:Gruppenraum\, Islandstraße 54\, Hückeswagen\, 42499\, Deutschland
CATEGORIES:Kolpingjugend
END:VEVENT
BEGIN:VEVENT
DTSTART;TZID=Europe/Berlin:20260109T170000
DTEND;TZID=Europe/Berlin:20260109T190000
DTSTAMP:20260424T211936
CREATED:20251223T153025Z
LAST-MODIFIED:20251223T202933Z
UID:2016-1767978000-1767985200@www.kolping-hueckeswagen.de
SUMMARY:Gruppenstunde Ü16
DESCRIPTION:
URL:https://www.kolping-hueckeswagen.de/event/gruppenstunde-ue16-36/
LOCATION:Gruppenraum\, Islandstraße 54\, Hückeswagen\, 42499\, Deutschland
CATEGORIES:Kolpingjugend
END:VEVENT
BEGIN:VEVENT
DTSTART;TZID=Europe/Berlin:20260110T083000
DTEND;TZID=Europe/Berlin:20260110T123000
DTSTAMP:20260424T211936
CREATED:20251223T132117Z
LAST-MODIFIED:20251223T132117Z
UID:1959-1768033800-1768048200@www.kolping-hueckeswagen.de
SUMMARY:Altpapiersammlung
DESCRIPTION:
URL:https://www.kolping-hueckeswagen.de/event/altpapiersammlung-14/
LOCATION:Parkplatz Brunsbachtal
CATEGORIES:Kolpingjugend
END:VEVENT
BEGIN:VEVENT
DTSTART;TZID=Europe/Berlin:20260110T150000
DTEND;TZID=Europe/Berlin:20260110T163000
DTSTAMP:20260424T211936
CREATED:20251223T132332Z
LAST-MODIFIED:20251223T135346Z
UID:1961-1768057200-1768062600@www.kolping-hueckeswagen.de
SUMMARY:Jahrehauptversammlung der Kolpingjugend
DESCRIPTION:
URL:https://www.kolping-hueckeswagen.de/event/jahrehauptversammlung-der-kolpingjugend/
LOCATION:Gruppenraum\, Islandstraße 54\, Hückeswagen\, 42499\, Deutschland
CATEGORIES:Kolpingjugend
END:VEVENT
BEGIN:VEVENT
DTSTART;TZID=Europe/Berlin:20260114T193000
DTEND;TZID=Europe/Berlin:20260114T220000
DTSTAMP:20260424T211936
CREATED:20251223T135546Z
LAST-MODIFIED:20251223T135800Z
UID:1963-1768419000-1768428000@www.kolping-hueckeswagen.de
SUMMARY:Jahreshauptversammlung der Kolpingsfamilie
DESCRIPTION:
URL:https://www.kolping-hueckeswagen.de/event/jahreshauptversammlung-der-kolpngsfamilie/
LOCATION:Kolpingsaal\, Islandstraße 54\, Hückeswagen\, 42499\, Deutschland
CATEGORIES:Kolpingsfamilie
END:VEVENT
BEGIN:VEVENT
DTSTART;TZID=Europe/Berlin:20260116T170000
DTEND;TZID=Europe/Berlin:20260116T190000
DTSTAMP:20260424T211936
CREATED:20251223T202638Z
LAST-MODIFIED:20251223T203051Z
UID:2018-1768582800-1768590000@www.kolping-hueckeswagen.de
SUMMARY:Gruppenstunde Ü16
DESCRIPTION:
URL:https://www.kolping-hueckeswagen.de/event/gruppenstunde-ue16-37/
LOCATION:Gruppenraum\, Islandstraße 54\, Hückeswagen\, 42499\, Deutschland
CATEGORIES:Kolpingjugend
END:VEVENT
BEGIN:VEVENT
DTSTART;TZID=Europe/Berlin:20260117T190000
DTEND;TZID=Europe/Berlin:20260117T233000
DTSTAMP:20260424T211936
CREATED:20251223T135946Z
LAST-MODIFIED:20251223T135946Z
UID:1968-1768676400-1768692600@www.kolping-hueckeswagen.de
SUMMARY:Après-Weihnachtsfeier der Kolpingjugend
DESCRIPTION:
URL:https://www.kolping-hueckeswagen.de/event/apres-weihnachtsfeier-der-kolpingjugend/
LOCATION:Gruppenraum\, Islandstraße 54\, Hückeswagen\, 42499\, Deutschland
CATEGORIES:Kolpingjugend
END:VEVENT
BEGIN:VEVENT
DTSTART;TZID=Europe/Berlin:20260121T170000
DTEND;TZID=Europe/Berlin:20260121T180000
DTSTAMP:20260424T211936
CREATED:20251227T170320Z
LAST-MODIFIED:20260109T153250Z
UID:2120-1769014800-1769018400@www.kolping-hueckeswagen.de
SUMMARY:Gruppenstunde U16
DESCRIPTION:
URL:https://www.kolping-hueckeswagen.de/event/gruppenstunde-u16-22/
LOCATION:Gruppenraum\, Islandstraße 54\, Hückeswagen\, 42499\, Deutschland
CATEGORIES:Kolpingjugend
END:VEVENT
BEGIN:VEVENT
DTSTART;TZID=Europe/Berlin:20260122T153000
DTEND;TZID=Europe/Berlin:20260122T170000
DTSTAMP:20260424T211936
CREATED:20251223T140140Z
LAST-MODIFIED:20251223T151837Z
UID:1970-1769095800-1769101200@www.kolping-hueckeswagen.de
SUMMARY:Kolping-Senioren
DESCRIPTION:Jeden dritten Donnerstag im Monat treffen sich die Kolpingsenioren im Saal oder dem Gesellenzimmer des Kolpinghauses. Es ist ein offener Treff\, also nicht nur für Kolpingbrüder und -schwestern. Bei Kaffee und Kuchen finden nette Gespräche statt und jeder Nachmittag steht unter einem Thema. So gibt es kleine Vorträge\, Gymnastik\, Sing- und Spielrunden\, Bingo und vieles mehr. Einmal im Jahr wird ein Tagesausflug unternommen. Die Senioren treffen sich unter der Leitung von Bettina Breidenbach.
URL:https://www.kolping-hueckeswagen.de/event/kolping-senioren-12/
LOCATION:Gesellenzimmer\, Islandstraße 54\, Hückeswagen\, 42499\, Germany
CATEGORIES:Kolping Senioren
END:VEVENT
BEGIN:VEVENT
DTSTART;TZID=Europe/Berlin:20260123T170000
DTEND;TZID=Europe/Berlin:20260123T190000
DTSTAMP:20260424T211936
CREATED:20251223T202754Z
LAST-MODIFIED:20251223T203150Z
UID:2020-1769187600-1769194800@www.kolping-hueckeswagen.de
SUMMARY:Gruppenstunde Ü16
DESCRIPTION:
URL:https://www.kolping-hueckeswagen.de/event/gruppenstunde-ue16-38/
LOCATION:Gruppenraum\, Islandstraße 54\, Hückeswagen\, 42499\, Deutschland
CATEGORIES:Kolpingjugend
END:VEVENT
BEGIN:VEVENT
DTSTART;TZID=Europe/Berlin:20260128T200000
DTEND;TZID=Europe/Berlin:20260128T220000
DTSTAMP:20260424T211936
CREATED:20251223T140312Z
LAST-MODIFIED:20251223T140312Z
UID:1972-1769630400-1769637600@www.kolping-hueckeswagen.de
SUMMARY:Vortrag des Bürgermeisters
DESCRIPTION:
URL:https://www.kolping-hueckeswagen.de/event/vortrag-des-buergermeisters/
LOCATION:Kolpingsaal\, Islandstraße 54\, Hückeswagen\, 42499\, Deutschland
CATEGORIES:Kolpingsfamilie
END:VEVENT
BEGIN:VEVENT
DTSTART;TZID=Europe/Berlin:20260130T170000
DTEND;TZID=Europe/Berlin:20260130T190000
DTSTAMP:20260424T211936
CREATED:20251223T203323Z
LAST-MODIFIED:20251223T203323Z
UID:2023-1769792400-1769799600@www.kolping-hueckeswagen.de
SUMMARY:Gruppenstunde Ü16
DESCRIPTION:
URL:https://www.kolping-hueckeswagen.de/event/gruppenstunde-ue16-39/
LOCATION:Gruppenraum\, Islandstraße 54\, Hückeswagen\, 42499\, Deutschland
CATEGORIES:Kolpingjugend
END:VEVENT
END:VCALENDAR