BEGIN:VCALENDAR
VERSION:2.0
PRODID:-//Kolpingsfamilie Hückeswagen - ECPv6.15.20//NONSGML v1.0//EN
CALSCALE:GREGORIAN
METHOD:PUBLISH
X-ORIGINAL-URL:https://www.kolping-hueckeswagen.de
X-WR-CALDESC:Veranstaltungen für Kolpingsfamilie Hückeswagen
REFRESH-INTERVAL;VALUE=DURATION:PT1H
X-Robots-Tag:noindex
X-PUBLISHED-TTL:PT1H
BEGIN:VTIMEZONE
TZID:Europe/Berlin
BEGIN:DAYLIGHT
TZOFFSETFROM:+0100
TZOFFSETTO:+0200
TZNAME:CEST
DTSTART:20240331T010000
END:DAYLIGHT
BEGIN:STANDARD
TZOFFSETFROM:+0200
TZOFFSETTO:+0100
TZNAME:CET
DTSTART:20241027T010000
END:STANDARD
BEGIN:DAYLIGHT
TZOFFSETFROM:+0100
TZOFFSETTO:+0200
TZNAME:CEST
DTSTART:20250330T010000
END:DAYLIGHT
BEGIN:STANDARD
TZOFFSETFROM:+0200
TZOFFSETTO:+0100
TZNAME:CET
DTSTART:20251026T010000
END:STANDARD
BEGIN:DAYLIGHT
TZOFFSETFROM:+0100
TZOFFSETTO:+0200
TZNAME:CEST
DTSTART:20260329T010000
END:DAYLIGHT
BEGIN:STANDARD
TZOFFSETFROM:+0200
TZOFFSETTO:+0100
TZNAME:CET
DTSTART:20261025T010000
END:STANDARD
END:VTIMEZONE
BEGIN:VEVENT
DTSTART;TZID=Europe/Berlin:20250903T170000
DTEND;TZID=Europe/Berlin:20250903T180000
DTSTAMP:20260425T035013
CREATED:20241220T163917Z
LAST-MODIFIED:20241220T163917Z
UID:1429-1756918800-1756922400@www.kolping-hueckeswagen.de
SUMMARY:Gruppenstunde U16
DESCRIPTION:
URL:https://www.kolping-hueckeswagen.de/event/gruppenstunde-u16-14/
LOCATION:Gruppenraum\, Islandstraße 54\, Hückeswagen\, 42499\, Deutschland
CATEGORIES:Kolpingjugend
END:VEVENT
BEGIN:VEVENT
DTSTART;VALUE=DATE:20250905
DTEND;VALUE=DATE:20250908
DTSTAMP:20260425T035013
CREATED:20241220T164622Z
LAST-MODIFIED:20241220T164622Z
UID:1433-1757030400-1757289599@www.kolping-hueckeswagen.de
SUMMARY:Altstadtfest
DESCRIPTION:
URL:https://www.kolping-hueckeswagen.de/event/altstadtfest-2/
END:VEVENT
BEGIN:VEVENT
DTSTART;TZID=Europe/Berlin:20250905T170000
DTEND;TZID=Europe/Berlin:20250905T190000
DTSTAMP:20260425T035013
CREATED:20241220T163118Z
LAST-MODIFIED:20241220T163118Z
UID:1423-1757091600-1757098800@www.kolping-hueckeswagen.de
SUMMARY:Gruppenstunde Ü16
DESCRIPTION:
URL:https://www.kolping-hueckeswagen.de/event/gruppenstunde-ue16-25/
LOCATION:Gruppenraum\, Islandstraße 54\, Hückeswagen\, 42499\, Deutschland
CATEGORIES:Kolpingjugend
END:VEVENT
BEGIN:VEVENT
DTSTART;TZID=Europe/Berlin:20250910T200000
DTEND;TZID=Europe/Berlin:20250910T200000
DTSTAMP:20260425T035013
CREATED:20241220T165117Z
LAST-MODIFIED:20241220T165117Z
UID:1435-1757534400-1757534400@www.kolping-hueckeswagen.de
SUMMARY:Podiumsdiskussion zur Kommunalwahl
DESCRIPTION:
URL:https://www.kolping-hueckeswagen.de/event/podiumsdiskussion-zur-kommunalwahl/
LOCATION:Kolpingsaal\, Islandstraße 54\, Hückeswagen\, 42499\, Deutschland
CATEGORIES:Kolpingsfamilie
END:VEVENT
BEGIN:VEVENT
DTSTART;TZID=Europe/Berlin:20250912T170000
DTEND;TZID=Europe/Berlin:20250912T190000
DTSTAMP:20260425T035013
CREATED:20241220T163319Z
LAST-MODIFIED:20241220T163319Z
UID:1425-1757696400-1757703600@www.kolping-hueckeswagen.de
SUMMARY:Gruppenstunde Ü16
DESCRIPTION:
URL:https://www.kolping-hueckeswagen.de/event/gruppenstunde-ue16-26/
LOCATION:Gruppenraum\, Islandstraße 54\, Hückeswagen\, 42499\, Deutschland
CATEGORIES:Kolpingjugend
END:VEVENT
BEGIN:VEVENT
DTSTART;TZID=Europe/Berlin:20250913T083000
DTEND;TZID=Europe/Berlin:20250913T123000
DTSTAMP:20260425T035013
CREATED:20241220T165726Z
LAST-MODIFIED:20241220T165726Z
UID:1437-1757752200-1757766600@www.kolping-hueckeswagen.de
SUMMARY:Altpapiersammlung durch die Feuerwehr
DESCRIPTION:
URL:https://www.kolping-hueckeswagen.de/event/altpapiersammlung-durch-die-feuerwehr-2/
LOCATION:Parkplatz Brunsbachtal
CATEGORIES:Kolpingjugend
END:VEVENT
BEGIN:VEVENT
DTSTART;TZID=Europe/Berlin:20250913T110000
DTEND;TZID=Europe/Berlin:20250913T130000
DTSTAMP:20260425T035013
CREATED:20241220T165947Z
LAST-MODIFIED:20241220T165947Z
UID:1439-1757761200-1757768400@www.kolping-hueckeswagen.de
SUMMARY:Kolping Kinderkleiderbasar
DESCRIPTION:
URL:https://www.kolping-hueckeswagen.de/event/kolping-kinderkleiderbasar-4/
LOCATION:Kolpingsaal\, Islandstraße 54\, Hückeswagen\, 42499\, Deutschland
CATEGORIES:Kolpingsfamilie
END:VEVENT
BEGIN:VEVENT
DTSTART;TZID=Europe/Berlin:20250913T180000
DTEND;TZID=Europe/Berlin:20250913T235900
DTSTAMP:20260425T035013
CREATED:20241220T170236Z
LAST-MODIFIED:20250911T202224Z
UID:1441-1757786400-1757807940@www.kolping-hueckeswagen.de
SUMMARY:Dankeschönpizzaessen
DESCRIPTION:
URL:https://www.kolping-hueckeswagen.de/event/dankeschoenpizzaessen/
LOCATION:Kolpinghaus
CATEGORIES:Kolpingsfamilie
END:VEVENT
BEGIN:VEVENT
DTSTART;TZID=Europe/Berlin:20250917T170000
DTEND;TZID=Europe/Berlin:20250917T180000
DTSTAMP:20260425T035013
CREATED:20241220T164344Z
LAST-MODIFIED:20241220T164344Z
UID:1431-1758128400-1758132000@www.kolping-hueckeswagen.de
SUMMARY:Gruppenstunde U16
DESCRIPTION:
URL:https://www.kolping-hueckeswagen.de/event/gruppenstunde-u16-15/
LOCATION:Gruppenraum\, Islandstraße 54\, Hückeswagen\, 42499\, Deutschland
CATEGORIES:Kolpingjugend
END:VEVENT
BEGIN:VEVENT
DTSTART;TZID=Europe/Berlin:20250918T153000
DTEND;TZID=Europe/Berlin:20250918T153000
DTSTAMP:20260425T035013
CREATED:20241220T170700Z
LAST-MODIFIED:20241220T170700Z
UID:1443-1758209400-1758209400@www.kolping-hueckeswagen.de
SUMMARY:Kolping Senioren
DESCRIPTION:
URL:https://www.kolping-hueckeswagen.de/event/kolping-senioren-8/
LOCATION:Gesellenzimmer\, Islandstraße 54\, Hückeswagen\, 42499\, Germany
CATEGORIES:Kolping Senioren
END:VEVENT
BEGIN:VEVENT
DTSTART;TZID=Europe/Berlin:20250919T170000
DTEND;TZID=Europe/Berlin:20250919T190000
DTSTAMP:20260425T035013
CREATED:20241220T163508Z
LAST-MODIFIED:20241220T163508Z
UID:1427-1758301200-1758308400@www.kolping-hueckeswagen.de
SUMMARY:Gruppenstunde Ü16
DESCRIPTION:
URL:https://www.kolping-hueckeswagen.de/event/gruppenstunde-ue16-27/
LOCATION:Gruppenraum\, Islandstraße 54\, Hückeswagen\, 42499\, Deutschland
CATEGORIES:Kolpingjugend
END:VEVENT
BEGIN:VEVENT
DTSTART;VALUE=DATE:20250926
DTEND;VALUE=DATE:20250929
DTSTAMP:20260425T035013
CREATED:20241220T171946Z
LAST-MODIFIED:20250509T092322Z
UID:1448-1758844800-1759103999@www.kolping-hueckeswagen.de
SUMMARY:Familienwochende in Marienberge
DESCRIPTION:
URL:https://www.kolping-hueckeswagen.de/event/familienwochende-in-marienberge/
CATEGORIES:Kolpingsfamilie
END:VEVENT
END:VCALENDAR