BEGIN:VCALENDAR
VERSION:2.0
PRODID:-//Kolpingsfamilie Hückeswagen - ECPv6.15.20//NONSGML v1.0//EN
CALSCALE:GREGORIAN
METHOD:PUBLISH
X-ORIGINAL-URL:https://www.kolping-hueckeswagen.de
X-WR-CALDESC:Veranstaltungen für Kolpingsfamilie Hückeswagen
REFRESH-INTERVAL;VALUE=DURATION:PT1H
X-Robots-Tag:noindex
X-PUBLISHED-TTL:PT1H
BEGIN:VTIMEZONE
TZID:Europe/Berlin
BEGIN:DAYLIGHT
TZOFFSETFROM:+0100
TZOFFSETTO:+0200
TZNAME:CEST
DTSTART:20240331T010000
END:DAYLIGHT
BEGIN:STANDARD
TZOFFSETFROM:+0200
TZOFFSETTO:+0100
TZNAME:CET
DTSTART:20241027T010000
END:STANDARD
BEGIN:DAYLIGHT
TZOFFSETFROM:+0100
TZOFFSETTO:+0200
TZNAME:CEST
DTSTART:20250330T010000
END:DAYLIGHT
BEGIN:STANDARD
TZOFFSETFROM:+0200
TZOFFSETTO:+0100
TZNAME:CET
DTSTART:20251026T010000
END:STANDARD
BEGIN:DAYLIGHT
TZOFFSETFROM:+0100
TZOFFSETTO:+0200
TZNAME:CEST
DTSTART:20260329T010000
END:DAYLIGHT
BEGIN:STANDARD
TZOFFSETFROM:+0200
TZOFFSETTO:+0100
TZNAME:CET
DTSTART:20261025T010000
END:STANDARD
END:VTIMEZONE
BEGIN:VEVENT
DTSTART;TZID=Europe/Berlin:20250809T083000
DTEND;TZID=Europe/Berlin:20250809T123000
DTSTAMP:20260425T052613
CREATED:20241220T161421Z
LAST-MODIFIED:20241220T161421Z
UID:1417-1754728200-1754742600@www.kolping-hueckeswagen.de
SUMMARY:Altpapiersammlung
DESCRIPTION:
URL:https://www.kolping-hueckeswagen.de/event/altpapiersammlung-11/
LOCATION:Parkplatz Brunsbachtal
CATEGORIES:Kolpingjugend
END:VEVENT
BEGIN:VEVENT
DTSTART;TZID=Europe/Berlin:20250813T153000
DTEND;TZID=Europe/Berlin:20250813T153000
DTSTAMP:20260425T052613
CREATED:20241220T161744Z
LAST-MODIFIED:20241220T161744Z
UID:1419-1755099000-1755099000@www.kolping-hueckeswagen.de
SUMMARY:Wandern mit den Jungen Alten
DESCRIPTION:
URL:https://www.kolping-hueckeswagen.de/event/wandern-mit-den-jungen-alten-6/
CATEGORIES:Junge Alte
END:VEVENT
BEGIN:VEVENT
DTSTART;TZID=Europe/Berlin:20250821T153000
DTEND;TZID=Europe/Berlin:20250821T153000
DTSTAMP:20260425T052613
CREATED:20241220T160732Z
LAST-MODIFIED:20241220T160732Z
UID:1415-1755790200-1755790200@www.kolping-hueckeswagen.de
SUMMARY:Kolping Senioren
DESCRIPTION:
URL:https://www.kolping-hueckeswagen.de/event/kolping-senioren-7/
LOCATION:Gesellenzimmer\, Islandstraße 54\, Hückeswagen\, 42499\, Germany
CATEGORIES:Kolping Senioren
END:VEVENT
BEGIN:VEVENT
DTSTART;TZID=Europe/Berlin:20250828T200000
DTEND;TZID=Europe/Berlin:20250828T200000
DTSTAMP:20260425T052613
CREATED:20241220T162205Z
LAST-MODIFIED:20241220T162205Z
UID:1421-1756411200-1756411200@www.kolping-hueckeswagen.de
SUMMARY:Podiumsdiskussion zur Bürgermeisterwahl
DESCRIPTION:
URL:https://www.kolping-hueckeswagen.de/event/podiumsdiskussion-zur-buergermeisterwahl/
LOCATION:Kolpingsaal\, Islandstraße 54\, Hückeswagen\, 42499\, Deutschland
CATEGORIES:Kolpingsfamilie
END:VEVENT
BEGIN:VEVENT
DTSTART;TZID=Europe/Berlin:20250829T170000
DTEND;TZID=Europe/Berlin:20250829T190000
DTSTAMP:20260425T052613
CREATED:20241220T160524Z
LAST-MODIFIED:20241220T160524Z
UID:1413-1756486800-1756494000@www.kolping-hueckeswagen.de
SUMMARY:Gruppenstunde Ü16
DESCRIPTION:
URL:https://www.kolping-hueckeswagen.de/event/gruppenstunde-ue16-24/
LOCATION:Gruppenraum\, Islandstraße 54\, Hückeswagen\, 42499\, Deutschland
CATEGORIES:Kolpingjugend
END:VEVENT
END:VCALENDAR