BEGIN:VCALENDAR
VERSION:2.0
PRODID:-//Kolpingsfamilie Hückeswagen - ECPv6.15.20//NONSGML v1.0//EN
CALSCALE:GREGORIAN
METHOD:PUBLISH
X-ORIGINAL-URL:https://www.kolping-hueckeswagen.de
X-WR-CALDESC:Veranstaltungen für Kolpingsfamilie Hückeswagen
REFRESH-INTERVAL;VALUE=DURATION:PT1H
X-Robots-Tag:noindex
X-PUBLISHED-TTL:PT1H
BEGIN:VTIMEZONE
TZID:Europe/Berlin
BEGIN:DAYLIGHT
TZOFFSETFROM:+0100
TZOFFSETTO:+0200
TZNAME:CEST
DTSTART:20250330T010000
END:DAYLIGHT
BEGIN:STANDARD
TZOFFSETFROM:+0200
TZOFFSETTO:+0100
TZNAME:CET
DTSTART:20251026T010000
END:STANDARD
BEGIN:DAYLIGHT
TZOFFSETFROM:+0100
TZOFFSETTO:+0200
TZNAME:CEST
DTSTART:20260329T010000
END:DAYLIGHT
BEGIN:STANDARD
TZOFFSETFROM:+0200
TZOFFSETTO:+0100
TZNAME:CET
DTSTART:20261025T010000
END:STANDARD
BEGIN:DAYLIGHT
TZOFFSETFROM:+0100
TZOFFSETTO:+0200
TZNAME:CEST
DTSTART:20270328T010000
END:DAYLIGHT
BEGIN:STANDARD
TZOFFSETFROM:+0200
TZOFFSETTO:+0100
TZNAME:CET
DTSTART:20271031T010000
END:STANDARD
END:VTIMEZONE
BEGIN:VEVENT
DTSTART;TZID=Europe/Berlin:20260304T150000
DTEND;TZID=Europe/Berlin:20260304T180000
DTSTAMP:20260424T192335
CREATED:20251223T143243Z
LAST-MODIFIED:20251223T143243Z
UID:1990-1772636400-1772647200@www.kolping-hueckeswagen.de
SUMMARY:Wandern mit den Jungen Alten
DESCRIPTION:
URL:https://www.kolping-hueckeswagen.de/event/wandern-mit-den-jungen-alten-8/
CATEGORIES:Junge Alte
END:VEVENT
BEGIN:VEVENT
DTSTART;TZID=Europe/Berlin:20260304T170000
DTEND;TZID=Europe/Berlin:20260304T180000
DTSTAMP:20260424T192335
CREATED:20251227T171122Z
LAST-MODIFIED:20260109T152722Z
UID:2126-1772643600-1772647200@www.kolping-hueckeswagen.de
SUMMARY:Gruppenstunde U16
DESCRIPTION:
URL:https://www.kolping-hueckeswagen.de/event/gruppenstunde-u16-25/
LOCATION:Gruppenraum\, Islandstraße 54\, Hückeswagen\, 42499\, Deutschland
CATEGORIES:Kolpingjugend
END:VEVENT
BEGIN:VEVENT
DTSTART;TZID=Europe/Berlin:20260304T193000
DTEND;TZID=Europe/Berlin:20260304T220000
DTSTAMP:20260424T192335
CREATED:20251223T145225Z
LAST-MODIFIED:20260115T143327Z
UID:1992-1772652600-1772661600@www.kolping-hueckeswagen.de
SUMMARY:175 Jahre Kolpingsfamilie Hückeswagen - Auftakt für die Vorbereitungen
DESCRIPTION:Ein großes Ereignis steht bevor! Unsere Kolpingsfamile wird im Jahr 2028 175 Jahre alt! \nDas bedarf natürlich einiger Vorbereitungen. Jeder der irgendwie dazu beitragen kann und will\, gesellt sich dazu\, wenn wir uns heute zum ersten Mal dazu treffen.
URL:https://www.kolping-hueckeswagen.de/event/175-jahre-kolpingsfamilie-hueckeswagen-auftakt-fuer-die-vorbereitung/
LOCATION:Kolpingsaal\, Islandstraße 54\, Hückeswagen\, 42499\, Deutschland
CATEGORIES:Kolpingsfamilie
END:VEVENT
END:VCALENDAR